BEGIN:VCALENDAR
VERSION:2.0
PRODID:Imitheme.com 
BEGIN:VEVENT
UID:20260421T1544361124104852
DTSTAMP;TZID=UTC:2026-04-21 15:44:36
DTSTART;TZID=America/Los_Angeles:20260421T154436
DTEND;TZID=America/Los_Angeles:20260421T154436
SUMMARY:Ouverture des inscriptions 2022/2023 - École Notre Dame de Ain Sebaa Casablanca
LOCATION:
DESCRIPTION:
URL:https://ecam.ma/evenement/ouverture-des-inscriptions-2022-2023-ecole-notre-dame-de-ain-sebaa-casablanca/
END:VEVENT
END:VCALENDAR
