BEGIN:VCALENDAR
VERSION:2.0
PRODID:Imitheme.com 
BEGIN:VEVENT
UID:20260421T1656001197261383
DTSTAMP;TZID=UTC:2026-04-21 16:56:00
DTSTART;TZID=America/Los_Angeles:20260421T165600
DTEND;TZID=America/Los_Angeles:20260421T165600
SUMMARY:Ouverture des inscriptions 2022/2023 - École Maison d'Anfa Casablanca
LOCATION:
DESCRIPTION:Les inscriptions sont ouvertes à l\'école Maison d\'Anfa. Inscrivez votre enfant dès maintenant via le lien qui suit : https://bit.ly/3Pe1ODj
URL:https://ecam.ma/evenement/ouverture-des-inscriptions-2022-2023-ecole-maison-danfa-casablanca/
END:VEVENT
END:VCALENDAR
