BEGIN:VCALENDAR
VERSION:2.0
PRODID:Imitheme.com 
BEGIN:VEVENT
UID:20260421T2346151632268293
DTSTAMP;TZID=UTC:2026-04-21 23:46:15
DTSTART;TZID=America/Los_Angeles:20260421T234615
DTEND;TZID=America/Los_Angeles:20260421T234615
SUMMARY:Vacances Scolaires: Été 2022
LOCATION:
DESCRIPTION:
URL:https://ecam.ma/evenement/vacances-scolaires-ete-2022/
END:VEVENT
END:VCALENDAR
