BEGIN:VCALENDAR
VERSION:2.0
PRODID:Imitheme.com 
BEGIN:VEVENT
UID:20260421T220955711996121
DTSTAMP;TZID=UTC:2026-04-21 22:09:55
DTSTART;TZID=America/Los_Angeles:20260421T220955
DTEND;TZID=America/Los_Angeles:20260421T220955
SUMMARY:Ouverture des inscriptions
LOCATION:
DESCRIPTION:
URL:https://ecam.ma/evenement/ouverture-des-inscriptions/
END:VEVENT
END:VCALENDAR
