BEGIN:VCALENDAR
VERSION:2.0
PRODID:Imitheme.com 
BEGIN:VEVENT
UID:20260421T2058451853343882
DTSTAMP;TZID=UTC:2026-04-21 20:58:45
DTSTART;TZID=America/Los_Angeles:20260421T205845
DTEND;TZID=America/Los_Angeles:20260421T205845
SUMMARY:Test d'admission au collège
LOCATION:
DESCRIPTION:
URL:https://ecam.ma/evenement/test-dadmission-au-college/
END:VEVENT
END:VCALENDAR
