BEGIN:VCALENDAR
VERSION:2.0
PRODID:Imitheme.com 
BEGIN:VEVENT
UID:20260421T2052341414063330
DTSTAMP;TZID=UTC:2026-04-21 20:52:34
DTSTART;TZID=America/Los_Angeles:20260421T205234
DTEND;TZID=America/Los_Angeles:20260421T205234
SUMMARY:Atelier de parents
LOCATION:
DESCRIPTION:
URL:https://ecam.ma/evenement/atelier-de-parents/
END:VEVENT
END:VCALENDAR
