BEGIN:VCALENDAR
VERSION:2.0
PRODID:Imitheme.com 
BEGIN:VEVENT
UID:20260421T130346463411622
DTSTAMP;TZID=UTC:2026-04-21 13:03:46
DTSTART;TZID=America/Los_Angeles:20260421T130346
DTEND;TZID=America/Los_Angeles:20260421T130346
SUMMARY:Ouverture des inscriptions 2022/2023 - École Carmel Saint Joseph Casablanca
LOCATION:
DESCRIPTION:Les inscritptions sont ouvertes à l\'école Carmel Saint Joseph de Casablanca. Date limite : 31 mai
URL:https://ecam.ma/evenement/ouverture-des-inscriptions-2022-2023-ecole-carmel-saint-joseph-casablanca/
END:VEVENT
END:VCALENDAR
