BEGIN:VCALENDAR
VERSION:2.0
PRODID:Imitheme.com 
BEGIN:VEVENT
UID:20260421T181720332450582
DTSTAMP;TZID=UTC:2026-04-21 18:17:20
DTSTART;TZID=America/Los_Angeles:20260421T181720
DTEND;TZID=America/Los_Angeles:20260421T181720
SUMMARY:Ouverture des inscriptions 2022 /2023 - Institution Charles De Foucauld Casablanca
LOCATION:
DESCRIPTION:
URL:https://ecam.ma/evenement/ouverture-des-inscriptions-2022-2023-institution-charles-de-foucauld-casablanca/
END:VEVENT
END:VCALENDAR
