BEGIN:VCALENDAR
VERSION:2.0
PRODID:Imitheme.com 
BEGIN:VEVENT
UID:20260421T1421071427243020
DTSTAMP;TZID=UTC:2026-04-21 14:21:07
DTSTART;TZID=America/Los_Angeles:20260421T142107
DTEND;TZID=America/Los_Angeles:20260421T142107
SUMMARY:Ouverture des inscriptions 2022/2023 - Institut Saint Dominique Casablanca
LOCATION:
DESCRIPTION:
URL:https://ecam.ma/evenement/ouverture-des-inscriptions-2022-2023-institut-saint-dominique-casablanca/
END:VEVENT
END:VCALENDAR
