BEGIN:VCALENDAR
VERSION:2.0
PRODID:Imitheme.com 
BEGIN:VEVENT
UID:20260421T113605572570224
DTSTAMP;TZID=UTC:2026-04-21 11:36:05
DTSTART;TZID=America/Los_Angeles:20260421T113605
DTEND;TZID=America/Los_Angeles:20260421T113605
SUMMARY:Ouverture des inscriptions 2022/2023 - Institution Jeanne d'Arc Rabat
LOCATION:
DESCRIPTION:
URL:https://ecam.ma/evenement/ouverture-des-inscriptions-2022-2023-institution-jeanne-darc-rabat/
END:VEVENT
END:VCALENDAR
