BEGIN:VCALENDAR
VERSION:2.0
PRODID:Imitheme.com 
BEGIN:VEVENT
UID:20260421T0902331432549755
DTSTAMP;TZID=UTC:2026-04-21 09:02:33
DTSTART;TZID=America/Los_Angeles:20260421T090233
DTEND;TZID=America/Los_Angeles:20260421T090233
SUMMARY:Ouverture des inscriptions 2022/2023 - École Notre Dame de La Paix Rabat
LOCATION:
DESCRIPTION:
URL:https://ecam.ma/evenement/ouverture-des-inscriptions-2022-2023-ecole-notre-dame-de-la-paix-rabat/
END:VEVENT
END:VCALENDAR
