BEGIN:VCALENDAR
VERSION:2.0
PRODID:Imitheme.com 
BEGIN:VEVENT
UID:20260421T0801361123036168
DTSTAMP;TZID=UTC:2026-04-21 08:01:36
DTSTART;TZID=America/Los_Angeles:20260421T080136
DTEND;TZID=America/Los_Angeles:20260421T080136
SUMMARY:Ouverture des inscriptions 2022/2023 - École La Saadia Marrakech
LOCATION:
DESCRIPTION:
URL:https://ecam.ma/evenement/ouverture-des-inscriptions-2022-2023-ecole-la-saadia-marrakech/
END:VEVENT
END:VCALENDAR
