BEGIN:VCALENDAR
VERSION:2.0
PRODID:Imitheme.com 
BEGIN:VEVENT
UID:20260421T084316348875343
DTSTAMP;TZID=UTC:2026-04-21 08:43:16
DTSTART;TZID=America/Los_Angeles:20260421T084316
DTEND;TZID=America/Los_Angeles:20260421T084316
SUMMARY:Ouverture des inscriptions 2022/2023 - École Notre Dame de Meknès
LOCATION:
DESCRIPTION:
URL:https://ecam.ma/evenement/ouverture-des-inscriptions-2022-2023-ecole-notre-dame-de-meknes/
END:VEVENT
END:VCALENDAR
